BEGIN:VCALENDAR
VERSION:2.0
PRODID:-//Stoughton Health - ECPv6.15.17.1//NONSGML v1.0//EN
CALSCALE:GREGORIAN
METHOD:PUBLISH
X-ORIGINAL-URL:https://stoughtonhealth.com
X-WR-CALDESC:Events for Stoughton Health
REFRESH-INTERVAL;VALUE=DURATION:PT1H
X-Robots-Tag:noindex
X-PUBLISHED-TTL:PT1H
BEGIN:VTIMEZONE
TZID:America/Chicago
BEGIN:DAYLIGHT
TZOFFSETFROM:-0600
TZOFFSETTO:-0500
TZNAME:CDT
DTSTART:20250309T080000
END:DAYLIGHT
BEGIN:STANDARD
TZOFFSETFROM:-0500
TZOFFSETTO:-0600
TZNAME:CST
DTSTART:20251102T070000
END:STANDARD
BEGIN:DAYLIGHT
TZOFFSETFROM:-0600
TZOFFSETTO:-0500
TZNAME:CDT
DTSTART:20260308T080000
END:DAYLIGHT
BEGIN:STANDARD
TZOFFSETFROM:-0500
TZOFFSETTO:-0600
TZNAME:CST
DTSTART:20261101T070000
END:STANDARD
BEGIN:DAYLIGHT
TZOFFSETFROM:-0600
TZOFFSETTO:-0500
TZNAME:CDT
DTSTART:20270314T080000
END:DAYLIGHT
BEGIN:STANDARD
TZOFFSETFROM:-0500
TZOFFSETTO:-0600
TZNAME:CST
DTSTART:20271107T070000
END:STANDARD
END:VTIMEZONE
BEGIN:VEVENT
DTSTART;TZID=America/Chicago:20260527T120000
DTEND;TZID=America/Chicago:20260527T160000
DTSTAMP:20260419T113141
CREATED:20260325T210724Z
LAST-MODIFIED:20260413T175746Z
UID:10005068-1779883200-1779897600@stoughtonhealth.com
SUMMARY:Memory Screenings
DESCRIPTION:A memory screening is a simple and safe\, free 15-minute brain health check-up that tests memory and other thinking skills. The screening helps indicate if someone needs a comprehensive medical evaluation. Early detection may improve one’s quality of life. \n If you have questions\, please call Stoughton Health Community Education at (608) 877-3498. \nRegister for FREE Memory Screening\n 
URL:https://stoughtonhealth.com/event/memory-screenings-2/
LOCATION:Community Health & Wellness Center\, 3162 County Road B\, Stoughton\, WI\, 53589\, United States
CATEGORIES:Memory Loss,Screenings
ATTACH;FMTTYPE=image/jpeg:https://stoughtonhealth.com/wp-content/uploads/Website-Event-Template-26.jpg
END:VEVENT
BEGIN:VEVENT
DTSTART;TZID=America/Chicago:20260527T130000
DTEND;TZID=America/Chicago:20260527T140000
DTSTAMP:20260419T113141
CREATED:20260326T152318Z
LAST-MODIFIED:20260326T153246Z
UID:10005069-1779886800-1779890400@stoughtonhealth.com
SUMMARY:Dementia and the Aging Brain
DESCRIPTION:Join Ellen Taylor\, ADRC Dementia Care Specialist\, to learn the basics of dementia\, including types and causes of the most common forms. Learn to distinguish between normal brain aging and the warning signs of dementia. \nIf you have questions\, please call Stoughton Health Community Education at (608) 877-3498.
URL:https://stoughtonhealth.com/event/dementia-and-the-aging-brain/
LOCATION:Community Health & Wellness Center\, 3162 County Road B\, Stoughton\, WI\, 53589\, United States
CATEGORIES:Memory Loss
ATTACH;FMTTYPE=image/jpeg:https://stoughtonhealth.com/wp-content/uploads/Website-Event-Template-1.jpg
END:VEVENT
END:VCALENDAR