BEGIN:VCALENDAR
VERSION:2.0
PRODID:-//Stoughton Health - ECPv6.15.17.1//NONSGML v1.0//EN
CALSCALE:GREGORIAN
METHOD:PUBLISH
X-WR-CALNAME:Stoughton Health
X-ORIGINAL-URL:https://stoughtonhealth.com
X-WR-CALDESC:Events for Stoughton Health
REFRESH-INTERVAL;VALUE=DURATION:PT1H
X-Robots-Tag:noindex
X-PUBLISHED-TTL:PT1H
BEGIN:VTIMEZONE
TZID:America/Chicago
BEGIN:DAYLIGHT
TZOFFSETFROM:-0600
TZOFFSETTO:-0500
TZNAME:CDT
DTSTART:20250309T080000
END:DAYLIGHT
BEGIN:STANDARD
TZOFFSETFROM:-0500
TZOFFSETTO:-0600
TZNAME:CST
DTSTART:20251102T070000
END:STANDARD
BEGIN:DAYLIGHT
TZOFFSETFROM:-0600
TZOFFSETTO:-0500
TZNAME:CDT
DTSTART:20260308T080000
END:DAYLIGHT
BEGIN:STANDARD
TZOFFSETFROM:-0500
TZOFFSETTO:-0600
TZNAME:CST
DTSTART:20261101T070000
END:STANDARD
BEGIN:DAYLIGHT
TZOFFSETFROM:-0600
TZOFFSETTO:-0500
TZNAME:CDT
DTSTART:20270314T080000
END:DAYLIGHT
BEGIN:STANDARD
TZOFFSETFROM:-0500
TZOFFSETTO:-0600
TZNAME:CST
DTSTART:20271107T070000
END:STANDARD
END:VTIMEZONE
BEGIN:VEVENT
DTSTART;TZID=America/Chicago:20260520T183000
DTEND;TZID=America/Chicago:20260520T193000
DTSTAMP:20260424T065412
CREATED:20260330T194132Z
LAST-MODIFIED:20260413T172331Z
UID:10005070-1779301800-1779305400@stoughtonhealth.com
SUMMARY:It’s Not Just Poses?  Demystifying the 8-limb Yoga Path
DESCRIPTION:This free class is held both online and in person at Kula Yoga.  \nYou can do some yoga poses\, now what?  An introduction to the other 7/8ths of living a yogic life. \nThis class is appropriate for all levels: Postures will include sitting and standing on a yoga mat.  Please have a yoga bolster or a firm pillow or cushion\, a yoga strap or belt\, scarf or towel\, and a blanket or two available for this practice. \nThe Zoom link will be sent 15 minutes before class for those participating online. Questions? Please contact Becky at info@flywithkula.com \nThis class is for education and does not serve as an endorsement. \n\nRegister for FREE Class
URL:https://stoughtonhealth.com/event/its-not-just-poses-demystifying-the-8-limb-yoga-path/
LOCATION:Kula Yoga\, 445 W. Cottage Grove Road\, Cottage Grove\, WI\, 53527\, United States
CATEGORIES:Yoga
ATTACH;FMTTYPE=image/jpeg:https://stoughtonhealth.com/wp-content/uploads/Website-Event-Template-28.jpg
END:VEVENT
END:VCALENDAR