BEGIN:VCALENDAR
VERSION:2.0
PRODID:-//Stoughton Health - ECPv6.15.17.1//NONSGML v1.0//EN
CALSCALE:GREGORIAN
METHOD:PUBLISH
X-WR-CALNAME:Stoughton Health
X-ORIGINAL-URL:https://stoughtonhealth.com
X-WR-CALDESC:Events for Stoughton Health
REFRESH-INTERVAL;VALUE=DURATION:PT1H
X-Robots-Tag:noindex
X-PUBLISHED-TTL:PT1H
BEGIN:VTIMEZONE
TZID:America/Chicago
BEGIN:DAYLIGHT
TZOFFSETFROM:-0600
TZOFFSETTO:-0500
TZNAME:CDT
DTSTART:20250309T080000
END:DAYLIGHT
BEGIN:STANDARD
TZOFFSETFROM:-0500
TZOFFSETTO:-0600
TZNAME:CST
DTSTART:20251102T070000
END:STANDARD
BEGIN:DAYLIGHT
TZOFFSETFROM:-0600
TZOFFSETTO:-0500
TZNAME:CDT
DTSTART:20260308T080000
END:DAYLIGHT
BEGIN:STANDARD
TZOFFSETFROM:-0500
TZOFFSETTO:-0600
TZNAME:CST
DTSTART:20261101T070000
END:STANDARD
BEGIN:DAYLIGHT
TZOFFSETFROM:-0600
TZOFFSETTO:-0500
TZNAME:CDT
DTSTART:20270314T080000
END:DAYLIGHT
BEGIN:STANDARD
TZOFFSETFROM:-0500
TZOFFSETTO:-0600
TZNAME:CST
DTSTART:20271107T070000
END:STANDARD
END:VTIMEZONE
BEGIN:VEVENT
DTSTART;TZID=America/Chicago:20261012T121500
DTEND;TZID=America/Chicago:20261012T131500
DTSTAMP:20260423T045756
CREATED:20251215T201513Z
LAST-MODIFIED:20260305T212500Z
UID:10005020-1791807300-1791810900@stoughtonhealth.com
SUMMARY:Parkinson's Support Group
DESCRIPTION:Support group for those with Parkinson’s Disease and family members/caregivers.\nMeets second Monday of each month from 12:15 to 1:15 p.m.\nQuestions? Please contact Stoughton Health Community Education at (608) 877-3498. \nThe support group is sponsored by Stoughton Health and the Stoughton Area Senior Center.
URL:https://stoughtonhealth.com/event/parkinsons-support-group-2/2026-10-12/
LOCATION:Community Health & Wellness Center\, 3162 County Road B\, Stoughton\, WI\, 53589\, United States
CATEGORIES:Support Group
ATTACH;FMTTYPE=image/jpeg:https://stoughtonhealth.com/wp-content/uploads/Website-Event-Template-24.jpg
END:VEVENT
BEGIN:VEVENT
DTSTART;TZID=America/Chicago:20261109T121500
DTEND;TZID=America/Chicago:20261109T131500
DTSTAMP:20260423T045756
CREATED:20251215T201513Z
LAST-MODIFIED:20260305T212500Z
UID:10005021-1794226500-1794230100@stoughtonhealth.com
SUMMARY:Parkinson's Support Group
DESCRIPTION:Support group for those with Parkinson’s Disease and family members/caregivers.\nMeets second Monday of each month from 12:15 to 1:15 p.m.\nQuestions? Please contact Stoughton Health Community Education at (608) 877-3498. \nThe support group is sponsored by Stoughton Health and the Stoughton Area Senior Center.
URL:https://stoughtonhealth.com/event/parkinsons-support-group-2/2026-11-09/
LOCATION:Community Health & Wellness Center\, 3162 County Road B\, Stoughton\, WI\, 53589\, United States
CATEGORIES:Support Group
ATTACH;FMTTYPE=image/jpeg:https://stoughtonhealth.com/wp-content/uploads/Website-Event-Template-24.jpg
END:VEVENT
BEGIN:VEVENT
DTSTART;TZID=America/Chicago:20261214T121500
DTEND;TZID=America/Chicago:20261214T131500
DTSTAMP:20260423T045756
CREATED:20251215T201513Z
LAST-MODIFIED:20260305T212500Z
UID:10005022-1797250500-1797254100@stoughtonhealth.com
SUMMARY:Parkinson's Support Group
DESCRIPTION:Support group for those with Parkinson’s Disease and family members/caregivers.\nMeets second Monday of each month from 12:15 to 1:15 p.m.\nQuestions? Please contact Stoughton Health Community Education at (608) 877-3498. \nThe support group is sponsored by Stoughton Health and the Stoughton Area Senior Center.
URL:https://stoughtonhealth.com/event/parkinsons-support-group-2/2026-12-14/
LOCATION:Community Health & Wellness Center\, 3162 County Road B\, Stoughton\, WI\, 53589\, United States
CATEGORIES:Support Group
ATTACH;FMTTYPE=image/jpeg:https://stoughtonhealth.com/wp-content/uploads/Website-Event-Template-24.jpg
END:VEVENT
END:VCALENDAR